BEGIN:VCALENDAR
VERSION:2.0
PRODID:icalendar-ruby
CALSCALE:GREGORIAN
METHOD:PUBLISH
BEGIN:VEVENT
DTSTAMP:20260425T030856Z
UID:13-477125@calvarylawrence.church
DTSTART:20261008T010000Z
DTEND:20261008T020000Z
CLASS:PUBLIC
CREATED:20260424T191706
DESCRIPTION:Join us for a small group Bible study every Wednesday evening f
 or one hour. 
LAST-MODIFIED:20260424T191706
LOCATION:Fellowship Hall
SUMMARY:Wednesday Evening Bible Study
URL;VALUE=URI:https://www.calvarylawrence.church/events/wednesday-evening-b
 ible-study/2026-10-07
ATTACH;FILENAME=pexels-johnmark-smith-272337.jpg;FMTTYPE=image/jpeg:https:/
 /dq5pwpg1q8ru0.cloudfront.net/2026/02/11/20/52/17/2f0d9e03-33cd-42e8-9de6-
 64d39b5764ad/pexels-johnmark-smith-272337.jpg
END:VEVENT
END:VCALENDAR
