BEGIN:VCALENDAR
VERSION:2.0
PRODID:icalendar-ruby
CALSCALE:GREGORIAN
METHOD:PUBLISH
BEGIN:VEVENT
DTSTAMP:20260422T215056Z
UID:7-472759@calvarylawrence.church
DTSTART:20260913T163000Z
DTEND:20260913T173000Z
CLASS:PUBLIC
CREATED:20260422T135644
DESCRIPTION:Each Sunday\, we gather to worship\, pray\, and hear the Word o
 f God preached. We love traditional and modern worship music. The children
  are welcome in the service or they can join the children's church. 
LAST-MODIFIED:20260422T135644
LOCATION:Sanctuary
SUMMARY:Sunday Morning Worship
URL;VALUE=URI:https://www.calvarylawrence.church/events/sunday-morning-wors
 hip/2026-09-13
ATTACH;FILENAME=IMG_6631.jpeg;FMTTYPE=image/jpeg:https://dq5pwpg1q8ru0.clou
 dfront.net/2024/04/04/14/45/38/5db2989c-ba8c-493a-aa0e-603f7e8348fd/IMG_66
 31.jpeg
END:VEVENT
END:VCALENDAR
