BEGIN:VCALENDAR
VERSION:2.0
PRODID:icalendar-ruby
CALSCALE:GREGORIAN
METHOD:PUBLISH
BEGIN:VEVENT
DTSTAMP:20260422T214856Z
UID:6-472624@calvarylawrence.church
DTSTART:20260913T153000Z
DTEND:20260913T163000Z
CLASS:PUBLIC
CREATED:20260422T135644
DESCRIPTION:All are welcome\, just show up! \nWe get together each week fo
 r Adult Sunday school for three reasons. First\, for fellowship\, we get t
 o know each other and use this time as an opportunity to share burdens\, j
 oys\, and concerns. Second\, for spiritual growth\, we learn how to apply 
 the word of God in our lives personally. Third\, through systematic Bible 
 study\, we dive deep into the Bible and ask questions to grow in our knowl
 edge. 
LAST-MODIFIED:20260422T135644
LOCATION:Fellowship Hall
SUMMARY:Adult Sunday School
URL;VALUE=URI:https://www.calvarylawrence.church/events/adult-sunday-school
 /2026-09-13
ATTACH;FILENAME=pexels-johnmark-smith-272337.jpg;FMTTYPE=image/jpeg:https:/
 /dq5pwpg1q8ru0.cloudfront.net/2024/04/04/14/46/17/81ebbe59-dc9b-4f67-b713-
 a612bc8e1807/pexels-johnmark-smith-272337.jpg
END:VEVENT
END:VCALENDAR
